BEGIN:VCALENDAR
VERSION:2.0
PRODID:eventora.com
BEGIN:VEVENT
UID:b7084d48-c3d7-40f9-aceb-b55d29275502
DTSTAMP:20260422T044557Z
STATUS:CONFIRMED
DTSTART;TZID=GTB Standard Time:20181114T140000Z
DTEND;TZID=GTB Standard Time:20181115T180000Z
SUMMARY:egg speed matching
LOCATION:egg – enter • grow • go - Λεωφόρος Ανδρέα Συγγρού 190 - 176 71 Καλλ
DESCRIPTION: 
BEGIN:VALARM
DESCRIPTION:egg speed matching
TRIGGER:-PT15M
ACTION:DISPLAY
END:VALARM
TRANSP:OPAQUE
END:VEVENT
END:VCALENDAR
