BEGIN:VCALENDAR
VERSION:2.0
PRODID:eventora.com
BEGIN:VEVENT
UID:6a17f0a3-6a49-4ed6-a15a-5ddbfb026d63
DTSTAMP:20260422T073925Z
STATUS:CONFIRMED
DTSTART;TZID=GTB Standard Time:20180626T160000Z
DTEND;TZID=GTB Standard Time:20180626T180000Z
SUMMARY:egg Startup Odyssey
LOCATION:egg - enter•grow•go - Λεωφόρος Ανδρέα Συγγρού 190 - 176 71 Καλλιθέα
DESCRIPTION: 
BEGIN:VALARM
DESCRIPTION:egg Startup Odyssey
TRIGGER:-PT15M
ACTION:DISPLAY
END:VALARM
TRANSP:OPAQUE
END:VEVENT
END:VCALENDAR
