BEGIN:VCALENDAR
VERSION:2.0
PRODID:eventora.com
BEGIN:VEVENT
UID:9d685f88-c5bb-4649-8a08-c124a5d222e7
DTSTAMP:20260423T083511Z
STATUS:CONFIRMED
DTSTART;TZID=GTB Standard Time:20230903T070000Z
DTEND;TZID=GTB Standard Time:20230903T083000Z
SUMMARY:Pre-picnic γευσιγνωσία βιολογικού ελαιόλαδου στον Ελαιώνα
LOCATION:Ξενώνας Ελαιώνας -   - 340 05 Rovies - Evia - Greece
DESCRIPTION: 
BEGIN:VALARM
DESCRIPTION:Pre-picnic γευσιγνωσία βιολογικού ελαιόλαδου στον Ελαιώνα
TRIGGER:-PT15M
ACTION:DISPLAY
END:VALARM
TRANSP:OPAQUE
END:VEVENT
END:VCALENDAR
