BEGIN:VCALENDAR
VERSION:2.0
PRODID:eventora.com
BEGIN:VEVENT
UID:9af0c253-0497-4d3e-aa94-fea60ddfbe43
DTSTAMP:20260419T124211Z
STATUS:CONFIRMED
DTSTART;TZID=GTB Standard Time:20200709T060000Z
DTEND;TZID=GTB Standard Time:20200709T143000Z
SUMMARY:Energy Efficiency Conference 2020
LOCATION:OTEAcademy - Πέλικα & Σπάρτης 1 - 151 22 Μαρούσι - Βόρειος Τομέας Αθ
DESCRIPTION: 
BEGIN:VALARM
DESCRIPTION:Energy Efficiency Conference 2020
TRIGGER:-PT15M
ACTION:DISPLAY
END:VALARM
TRANSP:OPAQUE
END:VEVENT
END:VCALENDAR
