BEGIN:VCALENDAR
VERSION:2.0
PRODID:eventora.com
BEGIN:VEVENT
UID:9759b6ae-f55b-472c-afe3-7df4d1f4d24a
DTSTAMP:20260425T012704Z
STATUS:CONFIRMED
DTSTART;TZID=GTB Standard Time:20241119T150000Z
DTEND;TZID=GTB Standard Time:20241119T210000Z
SUMMARY:ESQUIRE TOWNHOUSE ATHENS
LOCATION:Amalias 36 - Λεωφόρος Βασιλίσσης Αμαλίας 36 - 105 58 Αθήνα - Κεντρικ
DESCRIPTION: 
BEGIN:VALARM
DESCRIPTION:ESQUIRE TOWNHOUSE ATHENS
TRIGGER:-PT15M
ACTION:DISPLAY
END:VALARM
TRANSP:OPAQUE
END:VEVENT
END:VCALENDAR
