BEGIN:VCALENDAR
VERSION:2.0
PRODID:eventora.com
BEGIN:VEVENT
UID:2db54c6a-cf22-4530-843a-bdff5f900afd
DTSTAMP:20260423T010155Z
STATUS:CONFIRMED
DTSTART;TZID=GTB Standard Time:20190416T080000Z
DTEND;TZID=GTB Standard Time:20190416T100000Z
SUMMARY:MS Excel - 1o μέρος
LOCATION:Λέλα Καραγιάννη - Λέλας Καραγιάννη 1 - 112 52 Αθήνα - Κεντρικός Τομέ
DESCRIPTION: 
BEGIN:VALARM
DESCRIPTION:MS Excel - 1o μέρος
TRIGGER:-PT15M
ACTION:DISPLAY
END:VALARM
TRANSP:OPAQUE
END:VEVENT
END:VCALENDAR
