BEGIN:VCALENDAR
VERSION:2.0
PRODID:eventora.com
BEGIN:VEVENT
UID:5f5c423c-4381-472d-9fd5-7a8df8be71e4
DTSTAMP:20260420T174947Z
STATUS:CONFIRMED
DTSTART;TZID=GTB Standard Time:20160319T153000Z
DTEND;TZID=GTB Standard Time:20160319T173000Z
SUMMARY:Γνωριμία με τους HR της Generation Y - Κοπή Πίτας ΣΔΑΔΕ 2016
LOCATION:Κ8 Point - Ερμού 119 - 105 55 Αθήνα -  - Ελλάδα
DESCRIPTION: 
BEGIN:VALARM
DESCRIPTION:Γνωριμία με τους HR της Generation Y - Κοπή Πίτας ΣΔΑΔΕ 2016
TRIGGER:-PT15M
ACTION:DISPLAY
END:VALARM
TRANSP:OPAQUE
END:VEVENT
END:VCALENDAR
