BEGIN:VCALENDAR
VERSION:2.0
PRODID:eventora.com
BEGIN:VEVENT
UID:15bbfa97-6d12-447f-a343-0635600838dd
DTSTAMP:20260423T172416Z
STATUS:CONFIRMED
DTSTART;TZID=GTB Standard Time:20170401T160000Z
DTEND;TZID=GTB Standard Time:20170401T180000Z
SUMMARY:Η Ελλάδα και η Ευρώπη σε έναν κόσμο που αλλάζει:  Προκλήσεις και προοπτικές
LOCATION:Δημοτικό Ωδείο Δράμας - Verginas 218 - 661 00 Drama - Drama - Greece
DESCRIPTION: 
BEGIN:VALARM
DESCRIPTION:Η Ελλάδα και η Ευρώπη σε έναν κόσμο που αλλάζει:  Προκλήσεις και προοπτικές
TRIGGER:-PT15M
ACTION:DISPLAY
END:VALARM
TRANSP:OPAQUE
END:VEVENT
END:VCALENDAR
