BEGIN:VCALENDAR
VERSION:2.0
PRODID:eventora.com
BEGIN:VEVENT
UID:4dee041a-b3ec-4152-bb99-85ad20eace9e
DTSTAMP:20260424T074319Z
STATUS:CONFIRMED
DTSTART;TZID=GTB Standard Time:20150613T073000Z
DTEND;TZID=GTB Standard Time:20150614T160000Z
SUMMARY:Hackathon #apodeiksi
LOCATION:Innovathens - Pireos 100 - 118 54 Athina -  - Greece
DESCRIPTION: 
BEGIN:VALARM
DESCRIPTION:Hackathon #apodeiksi
TRIGGER:-PT15M
ACTION:DISPLAY
END:VALARM
TRANSP:OPAQUE
END:VEVENT
END:VCALENDAR
