BEGIN:VCALENDAR
VERSION:2.0
PRODID:eventora.com
BEGIN:VEVENT
UID:742af7d7-2e80-469e-aeb6-8c6d0b4c58d2
DTSTAMP:20260420T123112Z
STATUS:CONFIRMED
DTSTART;TZID=GTB Standard Time:20161116T063000Z
DTEND;TZID=GTB Standard Time:20161116T093000Z
SUMMARY:HR Leader Series - "Essential Skills from the New One Minute Manager"
LOCATION: - Καστοριάς 4 - 153 44 Γέρακας - Παλλήνη - Ελλάδα
DESCRIPTION: 
BEGIN:VALARM
DESCRIPTION:HR Leader Series - "Essential Skills from the New One Minute Manager"
TRIGGER:-PT15M
ACTION:DISPLAY
END:VALARM
TRANSP:OPAQUE
END:VEVENT
END:VCALENDAR
