BEGIN:VCALENDAR
VERSION:2.0
PRODID:eventora.com
BEGIN:VEVENT
UID:81d7b223-6a3f-45dd-a2ab-2e67d40f5d03
DTSTAMP:20260420T115114Z
STATUS:CONFIRMED
DTSTART;TZID=GTB Standard Time:20160518T053000Z
DTEND;TZID=GTB Standard Time:20160518T083000Z
SUMMARY:HR Leader Series - "Positivity Catalyst. The vital role of Positivity / Happiness in boosting employee engagement."
LOCATION:Γραφεία ΣΔΑΔΕ - Καστοριάς 4 - 153 44 Γέρακας - Παλλήνη - Ελλάδα
DESCRIPTION: 
BEGIN:VALARM
DESCRIPTION:HR Leader Series - "Positivity Catalyst. The vital role of Positivity / Happiness in boosting employee engagement."
TRIGGER:-PT15M
ACTION:DISPLAY
END:VALARM
TRANSP:OPAQUE
END:VEVENT
END:VCALENDAR
