BEGIN:VCALENDAR
VERSION:2.0
PRODID:eventora.com
BEGIN:VEVENT
UID:0ca82e8d-7f4b-43ed-8364-6391b1b8d995
DTSTAMP:20260419T124427Z
STATUS:CONFIRMED
DTSTART;TZID=GTB Standard Time:20241211T070000Z
DTEND;TZID=GTB Standard Time:20241211T150000Z
SUMMARY:HR Scaleup Summit | 11 Dec. 2024
LOCATION:Ωδείο Αθηνών - Βασιλέως Γεωργίου B 17-19 - 106 75 Αθήνα - Κεντρικός 
DESCRIPTION: 
BEGIN:VALARM
DESCRIPTION:HR Scaleup Summit | 11 Dec. 2024
TRIGGER:-PT15M
ACTION:DISPLAY
END:VALARM
TRANSP:OPAQUE
END:VEVENT
END:VCALENDAR
