BEGIN:VCALENDAR
VERSION:2.0
PRODID:eventora.com
BEGIN:VEVENT
UID:b9c95476-af5e-4043-84d1-578bb9f16e7f
DTSTAMP:20260424T091102Z
STATUS:CONFIRMED
DTSTART;TZID=GTB Standard Time:20190516T120000Z
DTEND;TZID=GTB Standard Time:20190516T133000Z
SUMMARY:Εισαγωγή σε HTML
LOCATION:Λέλα Καραγιάννη - Λέλας Καραγιάννη 1 - 112 52 Αθήνα - Κεντρικός Τομέ
DESCRIPTION: 
BEGIN:VALARM
DESCRIPTION:Εισαγωγή σε HTML
TRIGGER:-PT15M
ACTION:DISPLAY
END:VALARM
TRANSP:OPAQUE
END:VEVENT
END:VCALENDAR
