BEGIN:VCALENDAR
VERSION:2.0
PRODID:eventora.com
BEGIN:VEVENT
UID:471566c2-c405-4da8-88f7-4e9ba6c311a0
DTSTAMP:20260425T024707Z
STATUS:CONFIRMED
DTSTART;TZID=GTB Standard Time:20181110T080000Z
DTEND;TZID=GTB Standard Time:20181110T163000Z
SUMMARY:ICF COACHATHON: 3ος Μαραθώνιος Coaching για Καλύτερη Ζωή
LOCATION:Μέγαρο Μουσικής Αθηνών - Λεωφόρος Βασιλίσσης Σοφίας  - 115 21 Αθήνα
DESCRIPTION: 
BEGIN:VALARM
DESCRIPTION:ICF COACHATHON: 3ος Μαραθώνιος Coaching για Καλύτερη Ζωή
TRIGGER:-PT15M
ACTION:DISPLAY
END:VALARM
TRANSP:OPAQUE
END:VEVENT
END:VCALENDAR
