BEGIN:VCALENDAR
VERSION:2.0
PRODID:eventora.com
BEGIN:VEVENT
UID:1fc8e90f-ea67-4bd4-ac3f-ee21ddf83850
DTSTAMP:20260420T195037Z
STATUS:CONFIRMED
DTSTART;TZID=GTB Standard Time:20230318T080000Z
DTEND;TZID=GTB Standard Time:20230319T160000Z
SUMMARY:Ημέρες Καριέρας ΔΥΠΑ στην Αθήνα (Τουρισμός)
LOCATION:Εκθεσιακό & Συνεδριακό Κέντρο της HELEXPO - (Μεγάλο Εμβολιαστικό 
DESCRIPTION: 
BEGIN:VALARM
DESCRIPTION:Ημέρες Καριέρας ΔΥΠΑ στην Αθήνα (Τουρισμός)
TRIGGER:-PT15M
ACTION:DISPLAY
END:VALARM
TRANSP:OPAQUE
END:VEVENT
END:VCALENDAR
