BEGIN:VCALENDAR
VERSION:2.0
PRODID:eventora.com
BEGIN:VEVENT
UID:ae19c560-8c43-4d72-8577-7992811396a5
DTSTAMP:20260426T012243Z
STATUS:CONFIRMED
DTSTART;TZID=GTB Standard Time:20250215T080000Z
DTEND;TZID=GTB Standard Time:20250215T160000Z
SUMMARY:Ημέρα Καριέρας Ελευσίνα
LOCATION:Elefsina Hotel - Δήμητρος 55 - 192 00 Ελευσίνα - Περιφερειακή ενότητ
DESCRIPTION: 
BEGIN:VALARM
DESCRIPTION:Ημέρα Καριέρας Ελευσίνα
TRIGGER:-PT15M
ACTION:DISPLAY
END:VALARM
TRANSP:OPAQUE
END:VEVENT
END:VCALENDAR
