BEGIN:VCALENDAR
VERSION:2.0
PRODID:eventora.com
BEGIN:VEVENT
UID:d8d01b2e-51df-41c4-b3f0-1afa14860149
DTSTAMP:20260424T190135Z
STATUS:CONFIRMED
DTSTART;TZID=GTB Standard Time:20240427T070000Z
DTEND;TZID=GTB Standard Time:20240427T150000Z
SUMMARY:Ημέρα Καριέρας ΔΥΠΑ Επαγγέλματα της Θάλασσας
LOCATION:Πέτρινη Αποθήκη του ΟΛΠ - Πύλη Ε2 - 186 48 Πειραιάς - Περιφερειακή Ε
DESCRIPTION: 
BEGIN:VALARM
DESCRIPTION:Ημέρα Καριέρας ΔΥΠΑ Επαγγέλματα της Θάλασσας
TRIGGER:-PT15M
ACTION:DISPLAY
END:VALARM
TRANSP:OPAQUE
END:VEVENT
END:VCALENDAR
