BEGIN:VCALENDAR
VERSION:2.0
PRODID:eventora.com
BEGIN:VEVENT
UID:68fe841c-f54b-4367-ba9e-923bbca658b8
DTSTAMP:20260420T021600Z
STATUS:CONFIRMED
DTSTART;TZID=GTB Standard Time:20250912T070000Z
DTEND;TZID=GTB Standard Time:20250913T150000Z
SUMMARY:Διημερίδα Θεσσαλονίκης
LOCATION:Αποθήκη Γ' - Λιμάνι Θεσσαλονίκης - Ναυάρχου Βότση 4 - 54625 Θεσσαλον
DESCRIPTION: 
BEGIN:VALARM
DESCRIPTION:Διημερίδα Θεσσαλονίκης
TRIGGER:-PT15M
ACTION:DISPLAY
END:VALARM
TRANSP:OPAQUE
END:VEVENT
END:VCALENDAR
