BEGIN:VCALENDAR
VERSION:2.0
PRODID:eventora.com
BEGIN:VEVENT
UID:a4f76e0b-5bcd-4137-88c0-00b6dcc9e76d
DTSTAMP:20260421T044443Z
STATUS:CONFIRMED
DTSTART;TZID=GTB Standard Time:20240413T070000Z
DTEND;TZID=GTB Standard Time:20240413T150000Z
SUMMARY:Ημέρα Καριέρας ΔΥΠΑ Τρίκαλα
LOCATION:Ananti Resort -  - 421 00 Λογγάκι - Τρίκαλα - Ελλάδα
DESCRIPTION: 
BEGIN:VALARM
DESCRIPTION:Ημέρα Καριέρας ΔΥΠΑ Τρίκαλα
TRIGGER:-PT15M
ACTION:DISPLAY
END:VALARM
TRANSP:OPAQUE
END:VEVENT
END:VCALENDAR
