BEGIN:VCALENDAR
VERSION:2.0
PRODID:eventora.com
BEGIN:VEVENT
UID:99f264e5-2738-4479-a4b3-030382e0e240
DTSTAMP:20260421T140652Z
STATUS:CONFIRMED
DTSTART;TZID=GTB Standard Time:20220319T080000Z
DTEND;TZID=GTB Standard Time:20220319T160000Z
SUMMARY:Ημέρα Καριέρας ΟΑΕΔ - Πάτρα
LOCATION:Astir Hotel Patra - Αγίου Ανδρέου 16 - 262 21 Πάτρα - Αχαΐα - Ελλάδα
DESCRIPTION: 
BEGIN:VALARM
DESCRIPTION:Ημέρα Καριέρας ΟΑΕΔ - Πάτρα
TRIGGER:-PT15M
ACTION:DISPLAY
END:VALARM
TRANSP:OPAQUE
END:VEVENT
END:VCALENDAR
