BEGIN:VCALENDAR
VERSION:2.0
PRODID:eventora.com
BEGIN:VEVENT
UID:2cb659dd-d919-4512-a338-4c986fbaf531
DTSTAMP:20260424T034043Z
STATUS:CONFIRMED
DTSTART;TZID=GTB Standard Time:20231125T080000Z
DTEND;TZID=GTB Standard Time:20231125T153000Z
SUMMARY:JobReady by DYPA
LOCATION:Divani Caravel Hotel - Λεωφόρος Βασιλέως Αλεξάνδρου 2 - 161 21 Αθήν
DESCRIPTION: 
BEGIN:VALARM
DESCRIPTION:JobReady by DYPA
TRIGGER:-PT15M
ACTION:DISPLAY
END:VALARM
TRANSP:OPAQUE
END:VEVENT
END:VCALENDAR
