BEGIN:VCALENDAR
VERSION:2.0
PRODID:eventora.com
BEGIN:VEVENT
UID:83f45820-4dc1-4588-9c0c-9999c08f8a42
DTSTAMP:20260425T235635Z
STATUS:CONFIRMED
DTSTART;TZID=GTB Standard Time:20260320T083000Z
DTEND;TZID=GTB Standard Time:20260320T160000Z
SUMMARY:JobReady by DYPA
LOCATION:Elite City Resort - Ναυαρίνου 237 - 241 00  - Καλαμάτα - Ελλάδα
DESCRIPTION: 
BEGIN:VALARM
DESCRIPTION:JobReady by DYPA
TRIGGER:-PT15M
ACTION:DISPLAY
END:VALARM
TRANSP:OPAQUE
END:VEVENT
END:VCALENDAR
