BEGIN:VCALENDAR
VERSION:2.0
PRODID:eventora.com
BEGIN:VEVENT
UID:2f90553d-1bf0-423d-ae8b-24d244d3c359
DTSTAMP:20260421T104925Z
STATUS:CONFIRMED
DTSTART;TZID=GTB Standard Time:20221129T073000Z
DTEND;TZID=GTB Standard Time:20221129T153000Z
SUMMARY:DEI Leadership Conference
LOCATION:Θέατρο «Μικρό Παλλάς» - Αμερικής 2 - 105 64 Αθήνα - Κεντρικός Τομέας
DESCRIPTION: 
BEGIN:VALARM
DESCRIPTION:DEI Leadership Conference
TRIGGER:-PT15M
ACTION:DISPLAY
END:VALARM
TRANSP:OPAQUE
END:VEVENT
END:VCALENDAR
