BEGIN:VCALENDAR
VERSION:2.0
PRODID:eventora.com
BEGIN:VEVENT
UID:c574f678-bbfd-4fff-82fe-2ba707fdb2bb
DTSTAMP:20260420T221946Z
STATUS:CONFIRMED
DTSTART;TZID=GTB Standard Time:20201215T080000Z
DTEND;TZID=GTB Standard Time:20201215T123000Z
SUMMARY:1o Συνέδριο Κυπριακού Φορέα Εφοδιαστικής Αλυσίδας και Επιχειρησιακών Λειτουργιών (ΚΥ.Φ.Ε.ΑΣ)
LOCATION:Online
DESCRIPTION: 
BEGIN:VALARM
DESCRIPTION:1o Συνέδριο Κυπριακού Φορέα Εφοδιαστικής Αλυσίδας και Επιχειρησιακών Λειτουργιών (ΚΥ.Φ.Ε.ΑΣ)
TRIGGER:-PT15M
ACTION:DISPLAY
END:VALARM
TRANSP:OPAQUE
END:VEVENT
END:VCALENDAR
