BEGIN:VCALENDAR
VERSION:2.0
PRODID:eventora.com
BEGIN:VEVENT
UID:14d15010-98fc-43e7-95b3-780fb0faa273
DTSTAMP:20260421T120533Z
STATUS:CONFIRMED
DTSTART;TZID=GTB Standard Time:20200222T140000Z
DTEND;TZID=GTB Standard Time:20200223T183000Z
SUMMARY:The Mindspark Τρίκαλα 2020
LOCATION:Gallery Art Hotel  -  -  Trikala  -  - 
DESCRIPTION: 
BEGIN:VALARM
DESCRIPTION:The Mindspark Τρίκαλα 2020
TRIGGER:-PT15M
ACTION:DISPLAY
END:VALARM
TRANSP:OPAQUE
END:VEVENT
END:VCALENDAR
