BEGIN:VCALENDAR
VERSION:2.0
PRODID:eventora.com
BEGIN:VEVENT
UID:05eee0d8-92fb-4a99-aa41-1cb46be5b181
DTSTAMP:20260425T025954Z
STATUS:CONFIRMED
DTSTART;TZID=GTB Standard Time:20250522T080000Z
DTEND;TZID=GTB Standard Time:20250522T110000Z
SUMMARY:Πρόσκληση | Νέες Τεχνολογίες στη Φιλοξενία και τον Τουρισμό
LOCATION:Portes Lithos Luxury Resort - ΠΟΤΙΔΑΙΑ  - 632 00 Νέα Μουδανιά - Χαλκ
DESCRIPTION: 
BEGIN:VALARM
DESCRIPTION:Πρόσκληση | Νέες Τεχνολογίες στη Φιλοξενία και τον Τουρισμό
TRIGGER:-PT15M
ACTION:DISPLAY
END:VALARM
TRANSP:OPAQUE
END:VEVENT
END:VCALENDAR
