BEGIN:VCALENDAR
VERSION:2.0
PRODID:eventora.com
BEGIN:VEVENT
UID:a69f5186-75e9-4c6d-848b-3d1416755c97
DTSTAMP:20260425T173308Z
STATUS:CONFIRMED
DTSTART;TZID=GTB Standard Time:20170517T070000Z
DTEND;TZID=GTB Standard Time:20170517T130000Z
SUMMARY:The Νext Social Mama
LOCATION:Γραφεία εταιρείας a t t p - Τζαφέρη 16 - 118 54 Αθήνα - Κεντρικός Το
DESCRIPTION: 
BEGIN:VALARM
DESCRIPTION:The Νext Social Mama
TRIGGER:-PT15M
ACTION:DISPLAY
END:VALARM
TRANSP:OPAQUE
END:VEVENT
END:VCALENDAR
