BEGIN:VCALENDAR
VERSION:2.0
PRODID:eventora.com
BEGIN:VEVENT
UID:2907e428-488b-4f26-bb78-008b50ec9fdb
DTSTAMP:20260425T194002Z
STATUS:CONFIRMED
DTSTART;TZID=GTB Standard Time:20150518T173000Z
DTEND;TZID=GTB Standard Time:20150518T190000Z
SUMMARY:"Οι Μάγισσες του Σάλεμ"
LOCATION:Θέατρο Χωρέμη - Στεφάνου Δέλτα 15 - 154 52 Ψυχικό - Αττική - Ελλάδα
DESCRIPTION: 
BEGIN:VALARM
DESCRIPTION:"Οι Μάγισσες του Σάλεμ"
TRIGGER:-PT15M
ACTION:DISPLAY
END:VALARM
TRANSP:OPAQUE
END:VEVENT
END:VCALENDAR
