BEGIN:VCALENDAR
VERSION:2.0
PRODID:eventora.com
BEGIN:VEVENT
UID:ce261aaf-b1bf-4f7b-8c09-4ba8867b3d5c
DTSTAMP:20260424T053907Z
STATUS:CONFIRMED
DTSTART;TZID=GTB Standard Time:20240429T073000Z
DTEND;TZID=GTB Standard Time:20240514T173000Z
SUMMARY:Manko at One&Only Aesthesis Career Day
LOCATION:Manko at One&Only Aesthesis Athens - Λεωφόρος Ποσειδώνος 110 - 166 
DESCRIPTION: 
BEGIN:VALARM
DESCRIPTION:Manko at One&Only Aesthesis Career Day
TRIGGER:-PT15M
ACTION:DISPLAY
END:VALARM
TRANSP:OPAQUE
END:VEVENT
END:VCALENDAR
