BEGIN:VCALENDAR
VERSION:2.0
PRODID:eventora.com
BEGIN:VEVENT
UID:a7556b82-e0ba-4d92-b1af-b6c18c787773
DTSTAMP:20260422T174039Z
STATUS:CONFIRMED
DTSTART;TZID=GTB Standard Time:20240312T080000Z
DTEND;TZID=GTB Standard Time:20240312T160000Z
SUMMARY:Open Day Λάρισα Γνώρισε τις Σχολές της ΔΥΠΑ
LOCATION:ΕΠΑΣ Λάρισας - Ερμογένους 10 - 414 47 Λάρισα - Λάρισα - Ελλάδα
DESCRIPTION: 
BEGIN:VALARM
DESCRIPTION:Open Day Λάρισα Γνώρισε τις Σχολές της ΔΥΠΑ
TRIGGER:-PT15M
ACTION:DISPLAY
END:VALARM
TRANSP:OPAQUE
END:VEVENT
END:VCALENDAR
