BEGIN:VCALENDAR
VERSION:2.0
PRODID:eventora.com
BEGIN:VEVENT
UID:5a8de342-7424-45b9-adb6-9479631b886e
DTSTAMP:20260425T002725Z
STATUS:CONFIRMED
DTSTART;TZID=GTB Standard Time:20221031T180000Z
DTEND;TZID=GTB Standard Time:20221031T210000Z
SUMMARY:ΠΑΟΔΑΠ - Συναυλία "Στέλιος Καζαντζίδης"
LOCATION:Αμφιθέατρο Αμερικανικού Κολλεγίου - Γραβιάς 6 - 153 42 Αγία Παρασκε
DESCRIPTION: 
BEGIN:VALARM
DESCRIPTION:ΠΑΟΔΑΠ - Συναυλία "Στέλιος Καζαντζίδης"
TRIGGER:-PT15M
ACTION:DISPLAY
END:VALARM
TRANSP:OPAQUE
END:VEVENT
END:VCALENDAR
