BEGIN:VCALENDAR
VERSION:2.0
PRODID:eventora.com
BEGIN:VEVENT
UID:82382098-81f7-47dd-9cdc-bd56b436cc24
DTSTAMP:20260421T212034Z
STATUS:CONFIRMED
DTSTART;TZID=GTB Standard Time:20240605T070000Z
DTEND;TZID=GTB Standard Time:20240605T100000Z
SUMMARY:Εκδήλωση έναρξης του προγράμματος PREVENT - “Preventing gender-based violence and violence against Children”
LOCATION:Μουσείο Μπενάκη - Αμφιθέατρο - Πειραιώς 138 - 118 54 Αθήνα - Κεντρικό
DESCRIPTION: 
BEGIN:VALARM
DESCRIPTION:Εκδήλωση έναρξης του προγράμματος PREVENT - “Preventing gender-based violence and violence against Children”
TRIGGER:-PT15M
ACTION:DISPLAY
END:VALARM
TRANSP:OPAQUE
END:VEVENT
END:VCALENDAR
