BEGIN:VCALENDAR
VERSION:2.0
PRODID:eventora.com
BEGIN:VEVENT
UID:458e43b6-df91-4171-83d1-758456728305
DTSTAMP:20260422T084043Z
STATUS:CONFIRMED
DTSTART;TZID=GTB Standard Time:20190925T060000Z
DTEND;TZID=GTB Standard Time:20190925T140000Z
SUMMARY:Procurement Conference 2019
LOCATION:Αμφιθέατρο Maroussi Plaza -  Φραγκοκκλησιάς 3α και Γρανικού - 151 2
DESCRIPTION: 
BEGIN:VALARM
DESCRIPTION:Procurement Conference 2019
TRIGGER:-PT15M
ACTION:DISPLAY
END:VALARM
TRANSP:OPAQUE
END:VEVENT
END:VCALENDAR
