BEGIN:VCALENDAR
VERSION:2.0
PRODID:eventora.com
BEGIN:VEVENT
UID:11cfbddc-b3f6-4dc4-9495-e5f0c5fff3af
DTSTAMP:20260422T005144Z
STATUS:CONFIRMED
DTSTART;TZID=GTB Standard Time:20210520T150000Z
DTEND;TZID=GTB Standard Time:20210520T190000Z
SUMMARY:Εκλογο-απολογιστική Γενική Συνέλευση Συλλόγου Εργαζομένων Τράπεζας Πειραιώς (Σ.Ε.Τ.Π.)
LOCATION:
DESCRIPTION: 
BEGIN:VALARM
DESCRIPTION:Εκλογο-απολογιστική Γενική Συνέλευση Συλλόγου Εργαζομένων Τράπεζας Πειραιώς (Σ.Ε.Τ.Π.)
TRIGGER:-PT15M
ACTION:DISPLAY
END:VALARM
TRANSP:OPAQUE
END:VEVENT
END:VCALENDAR
