BEGIN:VCALENDAR
VERSION:2.0
PRODID:eventora.com
BEGIN:VEVENT
UID:b9d71112-f9b8-45e7-ade5-fbca487a4f55
DTSTAMP:20260422T004924Z
STATUS:CONFIRMED
DTSTART;TZID=GTB Standard Time:20240311T120000Z
DTEND;TZID=GTB Standard Time:20240311T140000Z
SUMMARY:Εναρκτήρια Εκδήλωση 7ου κύκλου Προγράμματος «Σημεία Στήριξης» & Εργαστήριο Συγγραφής Αιτήσεων
LOCATION:Πολιτιστικό Κέντρο Μουσείου Μπενάκη - Πειραιώς 138 & Ανδρονίκου - 1
DESCRIPTION: 
BEGIN:VALARM
DESCRIPTION:Εναρκτήρια Εκδήλωση 7ου κύκλου Προγράμματος «Σημεία Στήριξης» & Εργαστήριο Συγγραφής Αιτήσεων
TRIGGER:-PT15M
ACTION:DISPLAY
END:VALARM
TRANSP:OPAQUE
END:VEVENT
END:VCALENDAR
