BEGIN:VCALENDAR
VERSION:2.0
PRODID:eventora.com
BEGIN:VEVENT
UID:b9e9bbc9-9280-41ac-87d2-db83f90c85f3
DTSTAMP:20260424T150305Z
STATUS:CONFIRMED
DTSTART;TZID=GTB Standard Time:20190925T153000Z
DTEND;TZID=GTB Standard Time:20190925T173000Z
SUMMARY:ΔΙΑΛΟΓΟΙ
LOCATION:Warehouse C - Pier A - Port - 546 25 Thessaloniki - Macedonia - Greece
DESCRIPTION: 
BEGIN:VALARM
DESCRIPTION:ΔΙΑΛΟΓΟΙ
TRIGGER:-PT15M
ACTION:DISPLAY
END:VALARM
TRANSP:OPAQUE
END:VEVENT
END:VCALENDAR
