BEGIN:VCALENDAR
VERSION:2.0
PRODID:eventora.com
BEGIN:VEVENT
UID:71524e0f-d299-4395-9536-1aa4ad6f0866
DTSTAMP:20260419T174530Z
STATUS:CONFIRMED
DTSTART;TZID=GTB Standard Time:20210331T153000Z
DTEND;TZID=GTB Standard Time:20210331T193000Z
SUMMARY:ΔΙΑΛΟΓΟΙ Generation Z: Τι θέλουν οι έφηβοι να ξέρουμε για αυτούς; 
LOCATION:Online
DESCRIPTION: 
BEGIN:VALARM
DESCRIPTION:ΔΙΑΛΟΓΟΙ Generation Z: Τι θέλουν οι έφηβοι να ξέρουμε για αυτούς; 
TRIGGER:-PT15M
ACTION:DISPLAY
END:VALARM
TRANSP:OPAQUE
END:VEVENT
END:VCALENDAR
