BEGIN:VCALENDAR
VERSION:2.0
PRODID:eventora.com
BEGIN:VEVENT
UID:271ff1f0-320b-4ea1-a56b-c1a874723f40
DTSTAMP:20260426T043725Z
STATUS:CONFIRMED
DTSTART;TZID=GTB Standard Time:20190628T150000Z
DTEND;TZID=GTB Standard Time:20190628T183000Z
SUMMARY:Οι Legends 2004 μας δίνουν πάσα...για να κατακτήσουμε ένα νέο ρεκόρ! GUINNESS WORLD RECORDS (TM) attempt
LOCATION:Δημοτικό Πάρκο Αθλητισμού και Αναψυχής Καλλιθέας -  Γήπεδο Ποδοσφ
DESCRIPTION: 
BEGIN:VALARM
DESCRIPTION:Οι Legends 2004 μας δίνουν πάσα...για να κατακτήσουμε ένα νέο ρεκόρ! GUINNESS WORLD RECORDS (TM) attempt
TRIGGER:-PT15M
ACTION:DISPLAY
END:VALARM
TRANSP:OPAQUE
END:VEVENT
END:VCALENDAR
