BEGIN:VCALENDAR
VERSION:2.0
PRODID:eventora.com
BEGIN:VEVENT
UID:c35a4ca0-78e8-4b8a-a9e3-2e387f213506
DTSTAMP:20260424T201359Z
STATUS:CONFIRMED
DTSTART;TZID=GTB Standard Time:20201210T160000Z
DTEND;TZID=GTB Standard Time:20201210T164500Z
SUMMARY:Διαδικτυακή Παρουσίαση για το Πανεπιστημιακό Παιδιατρικό Νοσοκομείο Θεσσαλονίκης ΙΣΝ
LOCATION:Online
DESCRIPTION: 
BEGIN:VALARM
DESCRIPTION:Διαδικτυακή Παρουσίαση για το Πανεπιστημιακό Παιδιατρικό Νοσοκομείο Θεσσαλονίκης ΙΣΝ
TRIGGER:-PT15M
ACTION:DISPLAY
END:VALARM
TRANSP:OPAQUE
END:VEVENT
END:VCALENDAR
