BEGIN:VCALENDAR
VERSION:2.0
PRODID:eventora.com
BEGIN:VEVENT
UID:ba99333b-69fa-4ef3-8240-3afe9b6dfc3a
DTSTAMP:20260422T023154Z
STATUS:CONFIRMED
DTSTART;TZID=GTB Standard Time:20170223T160000Z
DTEND;TZID=GTB Standard Time:20170223T180000Z
SUMMARY:Ανοιχτή Εκδήλωση Παράδοσης του ΚΠΙΣΝ προς την Ελληνική Κοινωνία
LOCATION:Κέντρο Πολιτισμού Ίδρυμα Σταύρος Νιάρχος - Λ. Συγγρού 364 - 176 74 
DESCRIPTION: 
BEGIN:VALARM
DESCRIPTION:Ανοιχτή Εκδήλωση Παράδοσης του ΚΠΙΣΝ προς την Ελληνική Κοινωνία
TRIGGER:-PT15M
ACTION:DISPLAY
END:VALARM
TRANSP:OPAQUE
END:VEVENT
END:VCALENDAR
