BEGIN:VCALENDAR
VERSION:2.0
PRODID:eventora.com
BEGIN:VEVENT
UID:47eb280d-2329-46e8-8643-409e32c51b95
DTSTAMP:20260419T132843Z
STATUS:CONFIRMED
DTSTART;TZID=GTB Standard Time:20181229T160000Z
DTEND;TZID=GTB Standard Time:20181229T180000Z
SUMMARY:Βρέχει γκλίτερ & χιονίζει ντισκομπάλες! | Athens Disco Kidz 
LOCATION:Κέντρο Πολιτισμού Ίδρυμα Σταύρος Νιάρχος - Λ. Συγγρού 364 - 17674 Κ
DESCRIPTION: 
BEGIN:VALARM
DESCRIPTION:Βρέχει γκλίτερ & χιονίζει ντισκομπάλες! | Athens Disco Kidz 
TRIGGER:-PT15M
ACTION:DISPLAY
END:VALARM
TRANSP:OPAQUE
END:VEVENT
END:VCALENDAR
