BEGIN:VCALENDAR
VERSION:2.0
PRODID:eventora.com
BEGIN:VEVENT
UID:fa5124dc-0c40-40bc-9101-c6acff50cb59
DTSTAMP:20260425T140957Z
STATUS:CONFIRMED
DTSTART;TZID=GTB Standard Time:20190226T080000Z
DTEND;TZID=GTB Standard Time:20190227T140000Z
SUMMARY:Σοκολάτα: Απο το Α εως το Ω - Πάτρα
LOCATION:ΙΕΚ ΔΕΛΤΑ  - Αγίου Ανδρέου 47 - 262 21 Πάτρα - Αχαΐα - Ελλάδα
DESCRIPTION: 
BEGIN:VALARM
DESCRIPTION:Σοκολάτα: Απο το Α εως το Ω - Πάτρα
TRIGGER:-PT15M
ACTION:DISPLAY
END:VALARM
TRANSP:OPAQUE
END:VEVENT
END:VCALENDAR
