BEGIN:VCALENDAR
VERSION:2.0
PRODID:eventora.com
BEGIN:VEVENT
UID:f6b8adbf-d137-4d62-bf34-dae4dbb7c96b
DTSTAMP:20260423T195058Z
STATUS:CONFIRMED
DTSTART;TZID=GTB Standard Time:20190409T070000Z
DTEND;TZID=GTB Standard Time:20190410T130000Z
SUMMARY:Σύγχρονη Αρτοποιία - Ηράκλειο Κρήτης
LOCATION:ΙΕΚ ΑΚΜΗ ΚΡΗΤΗ - Κορωναίου & Θεοτοκοπούλου - 712 02 Ηράκλειο - Ηράκλ
DESCRIPTION: 
BEGIN:VALARM
DESCRIPTION:Σύγχρονη Αρτοποιία - Ηράκλειο Κρήτης
TRIGGER:-PT15M
ACTION:DISPLAY
END:VALARM
TRANSP:OPAQUE
END:VEVENT
END:VCALENDAR
