BEGIN:VCALENDAR
VERSION:2.0
PRODID:eventora.com
BEGIN:VEVENT
UID:9642c62a-fb47-407d-91bc-5bdec3471ce3
DTSTAMP:20260423T163155Z
STATUS:CONFIRMED
DTSTART;TZID=GTB Standard Time:20190313T080000Z
DTEND;TZID=GTB Standard Time:20190314T140000Z
SUMMARY:Σύγχρονη Αρτοποιία - Θεσσαλονίκη
LOCATION:ΙΕΚ ΔΕΛΤΑ - Ερμού 45 - 546 24 Θεσσαλονίκη - Θεσσαλονίκη - Ελλάδα
DESCRIPTION: 
BEGIN:VALARM
DESCRIPTION:Σύγχρονη Αρτοποιία - Θεσσαλονίκη
TRIGGER:-PT15M
ACTION:DISPLAY
END:VALARM
TRANSP:OPAQUE
END:VEVENT
END:VCALENDAR
