BEGIN:VCALENDAR
VERSION:2.0
PRODID:eventora.com
BEGIN:VEVENT
UID:e622a927-dba0-4a4e-aafc-2f0b07b7d868
DTSTAMP:20260424T202343Z
STATUS:CONFIRMED
DTSTART;TZID=GTB Standard Time:20260509T070000Z
DTEND;TZID=GTB Standard Time:20260509T170000Z
SUMMARY:TEDxNTUA Cycle 0
LOCATION:Ωδείο Αθηνών - Βασιλέως Γεωργίου B 17-19 - 106 75 Αθήνα - Κεντρικός 
DESCRIPTION: 
BEGIN:VALARM
DESCRIPTION:TEDxNTUA Cycle 0
TRIGGER:-PT15M
ACTION:DISPLAY
END:VALARM
TRANSP:OPAQUE
END:VEVENT
END:VCALENDAR
