BEGIN:VCALENDAR
VERSION:2.0
PRODID:eventora.com
BEGIN:VEVENT
UID:0437652d-170a-4014-8aeb-42174fa12b79
DTSTAMP:20260421T101956Z
STATUS:CONFIRMED
DTSTART;TZID=GTB Standard Time:20260510T080000Z
DTEND;TZID=GTB Standard Time:20260510T150000Z
SUMMARY:ΣΑΒΒΑΤΟΚΥΡΙΑΚΑ ΜΕ ΤΟΝ ΣΤΕΦΑΝΟ Κυριακή 10 Μαϊου 2026
LOCATION:UPDATE YOURSELF | The House - Πόντου 5 - 115 28 Αθήνα - Κεντρικός Το
DESCRIPTION: 
BEGIN:VALARM
DESCRIPTION:ΣΑΒΒΑΤΟΚΥΡΙΑΚΑ ΜΕ ΤΟΝ ΣΤΕΦΑΝΟ Κυριακή 10 Μαϊου 2026
TRIGGER:-PT15M
ACTION:DISPLAY
END:VALARM
TRANSP:OPAQUE
END:VEVENT
END:VCALENDAR
