BEGIN:VCALENDAR
VERSION:2.0
PRODID:eventora.com
BEGIN:VEVENT
UID:ec5e1929-e878-49e5-9e5e-1e82a0287543
DTSTAMP:20260421T101730Z
STATUS:CONFIRMED
DTSTART;TZID=GTB Standard Time:20260426T080000Z
DTEND;TZID=GTB Standard Time:20260426T150000Z
SUMMARY:ΣΑΒΒΑΤΟΚΥΡΙΑΚΑ ΜΕ ΤΟΝ ΣΤΕΦΑΝΟ Κυριακή 26 Απριλίου 2026
LOCATION:UPDATE YOURSELF | The House - Πόντου 5 - 115 28 Αθήνα - Κεντρικός Το
DESCRIPTION: 
BEGIN:VALARM
DESCRIPTION:ΣΑΒΒΑΤΟΚΥΡΙΑΚΑ ΜΕ ΤΟΝ ΣΤΕΦΑΝΟ Κυριακή 26 Απριλίου 2026
TRIGGER:-PT15M
ACTION:DISPLAY
END:VALARM
TRANSP:OPAQUE
END:VEVENT
END:VCALENDAR
