BEGIN:VCALENDAR
VERSION:2.0
PRODID:eventora.com
BEGIN:VEVENT
UID:780d9f9f-9504-4b39-9cb7-53a12f418b19
DTSTAMP:20260419T132533Z
STATUS:CONFIRMED
DTSTART;TZID=GTB Standard Time:20190515T150000Z
DTEND;TZID=GTB Standard Time:20190515T190000Z
SUMMARY:WOMEN DO BUSS\INESS
LOCATION:BLACK BOOK - Χρυσοστόμου 6 - 713 06 Ηράκλειο - Ηράκλειο - Ελλάδα
DESCRIPTION: 
BEGIN:VALARM
DESCRIPTION:WOMEN DO BUSS\INESS
TRIGGER:-PT15M
ACTION:DISPLAY
END:VALARM
TRANSP:OPAQUE
END:VEVENT
END:VCALENDAR
