BEGIN:VCALENDAR
VERSION:2.0
PRODID:eventora.com
BEGIN:VEVENT
UID:40c6a9ea-0434-40ff-ac28-773de0659030
DTSTAMP:20260424T041536Z
STATUS:CONFIRMED
DTSTART;TZID=GTB Standard Time:20251203T160000Z
DTEND;TZID=GTB Standard Time:20251203T200000Z
SUMMARY:Χριστουγεννιάτικο Τσάι της Αγ. Βαρβάρας
LOCATION:Σπουδαστική Εστία «Αλίκη Περρωτή» – Αμερικανική Γεωργική Σχολή - Μ
DESCRIPTION: 
BEGIN:VALARM
DESCRIPTION:Χριστουγεννιάτικο Τσάι της Αγ. Βαρβάρας
TRIGGER:-PT15M
ACTION:DISPLAY
END:VALARM
TRANSP:OPAQUE
END:VEVENT
END:VCALENDAR
