BEGIN:VCALENDAR
VERSION:2.0
PRODID:eventora.com
BEGIN:VEVENT
UID:08c6c58f-3436-4d21-b17f-97aa36931058
DTSTAMP:20260421T105818Z
STATUS:CONFIRMED
DTSTART;TZID=Eastern Standard Time:20260502T220000Z
DTEND;TZID=Eastern Standard Time:20260503T032500Z
SUMMARY:The Hellenic Initiative's Los Angeles Lifetime Achievement Awards
LOCATION:The Maybourne Beverly Hills - North Canon Drive 225 - 90210 Beverly
DESCRIPTION: 
BEGIN:VALARM
DESCRIPTION:The Hellenic Initiative's Los Angeles Lifetime Achievement Awards
TRIGGER:-PT15M
ACTION:DISPLAY
END:VALARM
TRANSP:OPAQUE
END:VEVENT
END:VCALENDAR
